BEGIN:VCALENDAR
VERSION:2.0
PRODID:-//ChamberMaster//Event Calendar 2.0//EN
METHOD:PUBLISH
X-PUBLISHED-TTL:P3D
REFRESH-INTERVAL:P3D
CALSCALE:GREGORIAN
BEGIN:VEVENT
DTSTART:20260514T040000Z
DTEND:20260514T060000Z
X-MICROSOFT-CDO-ALLDAYEVENT:FALSE
SUMMARY:Community Coffee Hour -
DESCRIPTION:Join us for our next Community Coffee Hour Mixer. Start your morning with fresh coffee\, meaningful conversations\, and new connections with fellow local professionals in a welcoming and relaxed setting.\n\n \n\nWhether you are looking to grow your network\, share ideas\, or simply connect with others in the community\, this is the perfect way to ease into your day and be part of Culver City's vibrant business community.
X-ALT-DESC;FMTTYPE=text/html:<p style="margin: 0px\; font-style: normal\; font-variant-caps: normal\; font-width: normal\; line-height: normal\; font-family: &quot\;Helvetica Neue&quot\;\; font-size-adjust: none\; font-kerning: auto\; font-variant-alternates: normal\; font-variant-ligatures: normal\; font-variant-numeric: normal\; font-variant-east-asian: normal\; font-variant-position: normal\; font-variant-emoji: normal\; font-feature-settings: normal\; font-optical-sizing: auto\; font-variation-settings: normal\;">Join us for our next Community Coffee Hour Mixer. Start your morning with fresh coffee\, meaningful conversations\, and new connections with fellow local professionals in a welcoming and relaxed setting.</p>\n\n<p style="margin: 0px\; font-style: normal\; font-variant-caps: normal\; font-width: normal\; line-height: normal\; font-family: &quot\;Helvetica Neue&quot\;\; font-size-adjust: none\; font-kerning: auto\; font-variant-alternates: normal\; font-variant-ligatures: normal\; font-variant-numeric: normal\; font-variant-east-asian: normal\; font-variant-position: normal\; font-variant-emoji: normal\; font-feature-settings: normal\; font-optical-sizing: auto\; font-variation-settings: normal\; min-height: 15px\;">&nbsp\;</p>\n\n<p style="margin: 0px\; font-style: normal\; font-variant-caps: normal\; font-width: normal\; line-height: normal\; font-family: &quot\;Helvetica Neue&quot\;\; font-size-adjust: none\; font-kerning: auto\; font-variant-alternates: normal\; font-variant-ligatures: normal\; font-variant-numeric: normal\; font-variant-east-asian: normal\; font-variant-position: normal\; font-variant-emoji: normal\; font-feature-settings: normal\; font-optical-sizing: auto\; font-variation-settings: normal\;">Whether you are looking to grow your network\, share ideas\, or simply connect with others in the community\, this is the perfect way to ease into your day and be part of Culver City&rsquo\;s vibrant business community.</p>\n
LOCATION:
UID:e.715.4702
SEQUENCE:3
DTSTAMP:20260423T215937Z
URL:https://business.culvercitychamber.com/events/details/community-coffee-hour-4702
END:VEVENT

END:VCALENDAR
