BEGIN:VCALENDAR
VERSION:2.0
PRODID:-//ChamberMaster//Event Calendar 2.0//EN
METHOD:PUBLISH
X-PUBLISHED-TTL:P3D
REFRESH-INTERVAL:P3D
CALSCALE:GREGORIAN
BEGIN:VEVENT
DTSTART:20260429T170000Z
DTEND:20260429T180000Z
X-MICROSOFT-CDO-ALLDAYEVENT:FALSE
SUMMARY:IKEA SNEAK PEAK GRAND OPENING
DESCRIPTION:The Culver City Chamber of Commerce invites you to a special sneak peek and grand opening celebration of IKEACulver City.\n\n \n\nBe among the first to experience IKEA's newest location\, a unique city-format store designed to bring stylish\, space-saving\, and affordable home solutions to the community. Located in the vibrant Helms Design District\, this new 38\,000 sq. ft. store offers a fresh and innovative way to shop IKEA.\n\n \n\nJoin us for an exclusive preview before the store officially opens to the public. Hear from IKEA's leadership team\, explore the thoughtfully designed showroom\, and celebrate the arrival of this exciting new addition to Culver City.\n\n \n\nWe look forward to welcoming you to this special occasion.
X-ALT-DESC;FMTTYPE=text/html:<p style="margin: 0px\; font-style: normal\; font-variant-caps: normal\; font-width: normal\; line-height: normal\; font-family: &quot\;Helvetica Neue&quot\;\; font-size-adjust: none\; font-kerning: auto\; font-variant-alternates: normal\; font-variant-ligatures: normal\; font-variant-numeric: normal\; font-variant-east-asian: normal\; font-variant-position: normal\; font-variant-emoji: normal\; font-feature-settings: normal\; font-optical-sizing: auto\; font-variation-settings: normal\; min-height: 15px\;">The Culver City Chamber of Commerce invites you to a special sneak peek and grand opening celebration of IKEACulver City.</p>\n\n<p style="margin: 0px\; font-style: normal\; font-variant-caps: normal\; font-width: normal\; line-height: normal\; font-family: &quot\;Helvetica Neue&quot\;\; font-size-adjust: none\; font-kerning: auto\; font-variant-alternates: normal\; font-variant-ligatures: normal\; font-variant-numeric: normal\; font-variant-east-asian: normal\; font-variant-position: normal\; font-variant-emoji: normal\; font-feature-settings: normal\; font-optical-sizing: auto\; font-variation-settings: normal\; min-height: 15px\;">&nbsp\;</p>\n\n<p style="margin: 0px\; font-style: normal\; font-variant-caps: normal\; font-width: normal\; line-height: normal\; font-family: &quot\;Helvetica Neue&quot\;\; font-size-adjust: none\; font-kerning: auto\; font-variant-alternates: normal\; font-variant-ligatures: normal\; font-variant-numeric: normal\; font-variant-east-asian: normal\; font-variant-position: normal\; font-variant-emoji: normal\; font-feature-settings: normal\; font-optical-sizing: auto\; font-variation-settings: normal\;">Be among the first to experience IKEA&rsquo\;s newest location\, a unique city-format store designed to bring stylish\, space-saving\, and affordable home solutions to the community. Located in the vibrant Helms Design District\, this new 38\,000 sq. ft. store offers a fresh and innovative way to shop IKEA.</p>\n\n<p style="margin: 0px\; font-style: normal\; font-variant-caps: normal\; font-width: normal\; line-height: normal\; font-family: &quot\;Helvetica Neue&quot\;\; font-size-adjust: none\; font-kerning: auto\; font-variant-alternates: normal\; font-variant-ligatures: normal\; font-variant-numeric: normal\; font-variant-east-asian: normal\; font-variant-position: normal\; font-variant-emoji: normal\; font-feature-settings: normal\; font-optical-sizing: auto\; font-variation-settings: normal\; min-height: 15px\;">&nbsp\;</p>\n\n<p style="margin: 0px\; font-style: normal\; font-variant-caps: normal\; font-width: normal\; line-height: normal\; font-family: &quot\;Helvetica Neue&quot\;\; font-size-adjust: none\; font-kerning: auto\; font-variant-alternates: normal\; font-variant-ligatures: normal\; font-variant-numeric: normal\; font-variant-east-asian: normal\; font-variant-position: normal\; font-variant-emoji: normal\; font-feature-settings: normal\; font-optical-sizing: auto\; font-variation-settings: normal\;">Join us for an exclusive preview before the store officially opens to the public. Hear from IKEA&rsquo\;s leadership team\, explore the thoughtfully designed showroom\, and celebrate the arrival of this exciting new addition to Culver City.</p>\n\n<p style="margin: 0px\; font-style: normal\; font-variant-caps: normal\; font-width: normal\; line-height: normal\; font-family: &quot\;Helvetica Neue&quot\;\; font-size-adjust: none\; font-kerning: auto\; font-variant-alternates: normal\; font-variant-ligatures: normal\; font-variant-numeric: normal\; font-variant-east-asian: normal\; font-variant-position: normal\; font-variant-emoji: normal\; font-feature-settings: normal\; font-optical-sizing: auto\; font-variation-settings: normal\; min-height: 15px\;">&nbsp\;</p>\n\n<p style="margin: 0px\; font-style: normal\; font-variant-caps: normal\; font-width: normal\; line-height: normal\; font-family: &quot\;Helvetica Neue&quot\;\; font-size-adjust: none\; font-kerning: auto\; font-variant-alternates: normal\; font-variant-ligatures: normal\; font-variant-numeric: normal\; font-variant-east-asian: normal\; font-variant-position: normal\; font-variant-emoji: normal\; font-feature-settings: normal\; font-optical-sizing: auto\; font-variation-settings: normal\;">We look forward to welcoming you to this special occasion.</p>\n\n<p style="margin: 0px\; font-style: normal\; font-variant-caps: normal\; font-width: normal\; line-height: normal\; font-family: &quot\;Helvetica Neue&quot\;\; font-size-adjust: none\; font-kerning: auto\; font-variant-alternates: normal\; font-variant-ligatures: normal\; font-variant-numeric: normal\; font-variant-east-asian: normal\; font-variant-position: normal\; font-variant-emoji: normal\; font-feature-settings: normal\; font-optical-sizing: auto\; font-variation-settings: normal\; min-height: 15px\;">&nbsp\;</p>\n
LOCATION:Helms Design District
UID:e.715.4705
SEQUENCE:3
DTSTAMP:20260425T031619Z
URL:https://business.culvercitychamber.com/events/details/ikea-sneak-peak-grand-opening-4705
END:VEVENT

END:VCALENDAR
