BEGIN:VCALENDAR
VERSION:2.0
PRODID:-//ChamberMaster//Event Calendar 2.0//EN
METHOD:PUBLISH
X-PUBLISHED-TTL:P3D
REFRESH-INTERVAL:P3D
CALSCALE:GREGORIAN
BEGIN:VEVENT
DTSTART:20260522T000000Z
DTEND:20260522T020000Z
X-MICROSOFT-CDO-ALLDAYEVENT:FALSE
SUMMARY:Off the Clock Mixer - Sweet Wheat
DESCRIPTION:Join us for our next Off the Clock Mixer at Sweet Wheat. Come mix\, mingle\, and make new connections with local professionals while enjoying a fun and relaxed atmosphere. Whether you are looking to grow your network or reconnect with familiar faces\, this is the perfect chance to unwind and be part of our vibrant business community.
X-ALT-DESC;FMTTYPE=text/html:<span style="caret-color: rgb(255\, 255\, 255)\; color: rgb(0\, 0\, 0)\; font-size: medium\;">Join us for our next Off the Clock Mixer at Sweet Wheat. Come mix\, mingle\, and make new connections with local professionals while enjoying a fun and relaxed atmosphere. Whether you are looking to grow your network or reconnect with familiar faces\, this is the perfect chance to unwind and be part of our vibrant business community.</span>
LOCATION:Sweet Wheat 9341 Culver Blvd\, Culver City\, CA 90232
UID:e.715.4703
SEQUENCE:3
DTSTAMP:20260423T220327Z
URL:https://business.culvercitychamber.com/events/details/off-the-clock-mixer-sweet-wheat-4703
END:VEVENT

END:VCALENDAR
